Package: interactiveDisplay Version: 1.42.0 Command: /Library/Frameworks/R.framework/Resources/bin/R CMD INSTALL interactiveDisplay StartedAt: 2024-10-16 19:02:48 -0400 (Wed, 16 Oct 2024) EndedAt: 2024-10-16 19:03:16 -0400 (Wed, 16 Oct 2024) EllapsedTime: 27.8 seconds RetCode: 0 Status: OK