Package: interactiveDisplay Version: 1.42.0 Command: rm -rf interactiveDisplay.buildbin-libdir && mkdir interactiveDisplay.buildbin-libdir && /Users/biocbuild/BBS/utils/build-universal.sh interactiveDisplay_1.42.0.tar.gz /Library/Frameworks/R.framework/Resources/bin/R interactiveDisplay.buildbin-libdir StartedAt: 2024-10-18 19:02:17 -0400 (Fri, 18 Oct 2024) EndedAt: 2024-10-18 19:02:53 -0400 (Fri, 18 Oct 2024) EllapsedTime: 36.2 seconds RetCode: 0 Status: OK PackageFile: interactiveDisplay_1.42.0.tgz PackageFileSize: 2.479 MiB