Package: interacCircos Version: 1.14.0 Command: /home/biocbuild/bbs-3.19-bioc/R/bin/R CMD build --keep-empty-dirs --no-resave-data interacCircos StartedAt: 2024-10-16 19:04:54 -0400 (Wed, 16 Oct 2024) EndedAt: 2024-10-16 19:05:01 -0400 (Wed, 16 Oct 2024) EllapsedTime: 7.0 seconds RetCode: 0 Status: OK PackageFile: interacCircos_1.14.0.tar.gz PackageFileSize: 710.4 KiB