Package: interacCircos Version: 1.14.0 Command: /Library/Frameworks/R.framework/Resources/bin/R CMD INSTALL interacCircos StartedAt: 2024-10-16 15:57:01 -0400 (Wed, 16 Oct 2024) EndedAt: 2024-10-16 15:57:10 -0400 (Wed, 16 Oct 2024) EllapsedTime: 8.2 seconds RetCode: 0 Status: OK