Package: intansv Version: 1.44.0 Command: /Library/Frameworks/R.framework/Resources/bin/R CMD check --install=check:intansv.install-out.txt --library=/Library/Frameworks/R.framework/Resources/library --no-vignettes --timings intansv_1.44.0.tar.gz StartedAt: 2024-10-17 06:59:25 -0400 (Thu, 17 Oct 2024) EndedAt: 2024-10-17 07:14:16 -0400 (Thu, 17 Oct 2024) EllapsedTime: 890.7 seconds RetCode: 0 Status: OK CheckDir: intansv.Rcheck Warnings: 0