Package: infinityFlow Version: 1.14.0 Command: /home/biocbuild/R/R-beta-2024-04-15_r86425/bin/R CMD INSTALL infinityFlow StartedAt: 2024-05-08 20:15:32 -0000 (Wed, 08 May 2024) EndedAt: 2024-05-08 20:16:07 -0000 (Wed, 08 May 2024) EllapsedTime: 34.2 seconds RetCode: 0 Status: OK