Package: infercnv Version: 1.20.0 Command: E:\biocbuild\bbs-3.19-bioc\R\bin\R.exe CMD check --no-multiarch --install=check:infercnv.install-out.txt --library=E:\biocbuild\bbs-3.19-bioc\R\library --no-vignettes --timings infercnv_1.20.0.tar.gz StartedAt: 2024-10-17 02:30:11 -0400 (Thu, 17 Oct 2024) EndedAt: 2024-10-17 02:39:37 -0400 (Thu, 17 Oct 2024) EllapsedTime: 566.1 seconds RetCode: 0 Status: OK CheckDir: infercnv.Rcheck Warnings: 0