Package: infercnv Version: 1.20.0 Command: chmod a+r infercnv -R && E:\biocbuild\bbs-3.19-bioc\R\bin\R.exe CMD build --keep-empty-dirs --no-resave-data infercnv StartedAt: 2024-10-16 19:50:07 -0400 (Wed, 16 Oct 2024) EndedAt: 2024-10-16 19:52:22 -0400 (Wed, 16 Oct 2024) EllapsedTime: 135.4 seconds RetCode: 0 Status: OK PackageFile: infercnv_1.20.0.tar.gz PackageFileSize: 3.89 MiB