Package: infercnv Version: 1.20.0 Command: rm -rf infercnv.buildbin-libdir && mkdir infercnv.buildbin-libdir && /Users/biocbuild/BBS/utils/build-universal.sh infercnv_1.20.0.tar.gz /Library/Frameworks/R.framework/Resources/bin/R infercnv.buildbin-libdir StartedAt: 2024-10-17 16:23:35 -0400 (Thu, 17 Oct 2024) EndedAt: 2024-10-17 16:25:56 -0400 (Thu, 17 Oct 2024) EllapsedTime: 141.1 seconds RetCode: 0 Status: OK PackageFile: infercnv_1.20.0.tgz PackageFileSize: 4.364 MiB