Package: infercnv Version: 1.20.0 Command: /Library/Frameworks/R.framework/Resources/bin/R CMD INSTALL infercnv StartedAt: 2024-06-09 16:59:08 -0400 (Sun, 09 Jun 2024) EndedAt: 2024-06-09 17:00:06 -0400 (Sun, 09 Jun 2024) EllapsedTime: 57.7 seconds RetCode: 0 Status: OK