Package: impute Version: 1.78.0 Command: chmod a+r impute -R && F:\biocbuild\bbs-3.19-bioc\R\bin\R.exe CMD build --keep-empty-dirs --no-resave-data impute StartedAt: 2024-06-26 19:35:03 -0400 (Wed, 26 Jun 2024) EndedAt: 2024-06-26 19:35:05 -0400 (Wed, 26 Jun 2024) EllapsedTime: 2.0 seconds RetCode: 0 Status: OK PackageFile: impute_1.78.0.tar.gz PackageFileSize: 626.5 KiB