Package: impute Version: 1.78.0 Command: /Library/Frameworks/R.framework/Resources/bin/R CMD build --keep-empty-dirs --no-resave-data impute StartedAt: 2024-10-16 20:09:45 -0400 (Wed, 16 Oct 2024) EndedAt: 2024-10-16 20:09:49 -0400 (Wed, 16 Oct 2024) EllapsedTime: 3.4 seconds RetCode: 0 Status: OK PackageFile: impute_1.78.0.tar.gz PackageFileSize: 626.6 KiB