Package: impute Version: 1.78.0 Command: /home/biocbuild/R/R-beta-2024-04-15_r86425/bin/R CMD build --keep-empty-dirs --no-resave-data impute StartedAt: 2024-05-09 01:04:57 -0000 (Thu, 09 May 2024) EndedAt: 2024-05-09 01:04:59 -0000 (Thu, 09 May 2024) EllapsedTime: 2.0 seconds RetCode: 0 Status: OK PackageFile: impute_1.78.0.tar.gz PackageFileSize: 626.6 KiB