Package: impute Version: 1.78.0 Command: rm -rf impute.buildbin-libdir && mkdir impute.buildbin-libdir && /Users/biocbuild/BBS/utils/build-universal.sh impute_1.78.0.tar.gz /Library/Frameworks/R.framework/Resources/bin/R impute.buildbin-libdir StartedAt: 2024-06-11 11:40:41 -0400 (Tue, 11 Jun 2024) EndedAt: 2024-06-11 11:40:52 -0400 (Tue, 11 Jun 2024) EllapsedTime: 10.9 seconds RetCode: 0 Status: OK PackageFile: impute_1.78.0.tgz PackageFileSize: 646.3 KiB