Package: impute Version: 1.78.0 Command: /Library/Frameworks/R.framework/Resources/bin/R CMD INSTALL impute StartedAt: 2024-10-16 15:33:38 -0400 (Wed, 16 Oct 2024) EndedAt: 2024-10-16 15:33:43 -0400 (Wed, 16 Oct 2024) EllapsedTime: 5.2 seconds RetCode: 0 Status: OK