Package: immunotation Version: 1.12.0 Command: E:\biocbuild\bbs-3.19-bioc\R\bin\R.exe CMD INSTALL immunotation StartedAt: 2024-10-16 16:08:30 -0400 (Wed, 16 Oct 2024) EndedAt: 2024-10-16 16:10:34 -0400 (Wed, 16 Oct 2024) EllapsedTime: 124.4 seconds RetCode: 0 Status: OK