Package: immunotation Version: 1.12.0 Command: E:\biocbuild\bbs-3.19-bioc\R\bin\R.exe CMD check --no-multiarch --install=check:immunotation.install-out.txt --library=E:\biocbuild\bbs-3.19-bioc\R\library --no-vignettes --timings immunotation_1.12.0.tar.gz StartedAt: 2024-10-07 01:49:41 -0400 (Mon, 07 Oct 2024) EndedAt: 2024-10-07 01:56:22 -0400 (Mon, 07 Oct 2024) EllapsedTime: 401.0 seconds RetCode: 0 Status: OK CheckDir: immunotation.Rcheck Warnings: 0