Package: immunotation Version: 1.12.0 Command: chmod a+r immunotation -R && E:\biocbuild\bbs-3.19-bioc\R\bin\R.exe CMD build --keep-empty-dirs --no-resave-data immunotation StartedAt: 2024-10-16 19:48:35 -0400 (Wed, 16 Oct 2024) EndedAt: 2024-10-16 20:28:36 -0400 (Wed, 16 Oct 2024) EllapsedTime: 2400.8 seconds RetCode: None Status: TIMEOUT PackageFile: None PackageFileSize: NA