Package: immunotation Version: 1.12.0 Command: /Library/Frameworks/R.framework/Resources/bin/R CMD build --keep-empty-dirs --no-resave-data immunotation StartedAt: 2024-10-16 20:09:08 -0400 (Wed, 16 Oct 2024) EndedAt: 2024-10-16 20:49:08 -0400 (Wed, 16 Oct 2024) EllapsedTime: 2400.7 seconds RetCode: None Status: TIMEOUT PackageFile: None PackageFileSize: NA