Package: immunotation Version: 1.12.0 Command: rm -rf immunotation.buildbin-libdir && mkdir immunotation.buildbin-libdir && /Users/biocbuild/BBS/utils/build-universal.sh immunotation_1.12.0.tar.gz /Library/Frameworks/R.framework/Resources/bin/R immunotation.buildbin-libdir StartedAt: 2024-10-14 16:18:18 -0400 (Mon, 14 Oct 2024) EndedAt: 2024-10-14 16:23:11 -0400 (Mon, 14 Oct 2024) EllapsedTime: 293.5 seconds RetCode: 0 Status: OK PackageFile: immunotation_1.12.0.tgz PackageFileSize: 4.259 MiB