Package: immunotation Version: 1.12.0 Command: /Library/Frameworks/R.framework/Resources/bin/R CMD check --install=check:immunotation.install-out.txt --library=/Library/Frameworks/R.framework/Resources/library --no-vignettes --timings immunotation_1.12.0.tar.gz StartedAt: 2024-10-18 01:09:06 -0400 (Fri, 18 Oct 2024) EndedAt: 2024-10-18 01:49:07 -0400 (Fri, 18 Oct 2024) EllapsedTime: 2400.8 seconds RetCode: None Status: TIMEOUT CheckDir: immunotation.Rcheck Warnings: NA