Package: immunotation Version: 1.12.0 Command: rm -rf immunotation.buildbin-libdir && mkdir immunotation.buildbin-libdir && /Users/biocbuild/BBS/utils/build-universal.sh immunotation_1.12.0.tar.gz /Library/Frameworks/R.framework/Resources/bin/R immunotation.buildbin-libdir StartedAt: 2024-10-18 19:00:10 -0400 (Fri, 18 Oct 2024) EndedAt: 2024-10-18 19:02:39 -0400 (Fri, 18 Oct 2024) EllapsedTime: 148.3 seconds RetCode: 0 Status: OK PackageFile: immunotation_1.12.0.tgz PackageFileSize: 4.259 MiB