Package: immunoClust Version: 1.36.0 Command: chmod a+r immunoClust -R && F:\biocbuild\bbs-3.19-bioc\R\bin\R.exe CMD build --keep-empty-dirs --no-resave-data immunoClust StartedAt: 2024-06-26 19:33:58 -0400 (Wed, 26 Jun 2024) EndedAt: 2024-06-26 19:37:47 -0400 (Wed, 26 Jun 2024) EllapsedTime: 228.9 seconds RetCode: 0 Status: OK PackageFile: immunoClust_1.36.0.tar.gz PackageFileSize: 2.432 MiB