Package: immunoClust Version: 1.36.0 Command: /home/biocbuild/bbs-3.19-bioc/R/bin/R CMD check --install=check:immunoClust.install-out.txt --library=/home/biocbuild/bbs-3.19-bioc/R/site-library --timings immunoClust_1.36.0.tar.gz StartedAt: 2024-10-17 01:34:01 -0400 (Thu, 17 Oct 2024) EndedAt: 2024-10-17 01:39:55 -0400 (Thu, 17 Oct 2024) EllapsedTime: 354.7 seconds RetCode: 0 Status: OK CheckDir: immunoClust.Rcheck Warnings: 0