Package: immunoClust Version: 1.36.0 Command: rm -rf immunoClust.buildbin-libdir && mkdir immunoClust.buildbin-libdir && /Users/biocbuild/BBS/utils/build-universal.sh immunoClust_1.36.0.tar.gz /Library/Frameworks/R.framework/Resources/bin/R immunoClust.buildbin-libdir StartedAt: 2024-10-17 16:23:27 -0400 (Thu, 17 Oct 2024) EndedAt: 2024-10-17 16:24:39 -0400 (Thu, 17 Oct 2024) EllapsedTime: 72.0 seconds RetCode: 0 Status: OK PackageFile: immunoClust_1.36.0.tgz PackageFileSize: 3.292 MiB