Package: imcRtools Version: 1.10.0 Command: E:\biocbuild\bbs-3.19-bioc\R\bin\R.exe CMD check --no-multiarch --install=check:imcRtools.install-out.txt --library=E:\biocbuild\bbs-3.19-bioc\R\library --no-vignettes --timings imcRtools_1.10.0.tar.gz StartedAt: 2024-10-17 02:29:33 -0400 (Thu, 17 Oct 2024) EndedAt: 2024-10-17 02:59:12 -0400 (Thu, 17 Oct 2024) EllapsedTime: 1779.1 seconds RetCode: 0 Status: OK CheckDir: imcRtools.Rcheck Warnings: 0