Package: imcRtools Version: 1.10.0 Command: chmod a+r imcRtools -R && E:\biocbuild\bbs-3.19-bioc\R\bin\R.exe CMD build --keep-empty-dirs --no-resave-data imcRtools StartedAt: 2024-10-16 19:47:39 -0400 (Wed, 16 Oct 2024) EndedAt: 2024-10-16 19:52:56 -0400 (Wed, 16 Oct 2024) EllapsedTime: 316.7 seconds RetCode: 0 Status: OK PackageFile: imcRtools_1.10.0.tar.gz PackageFileSize: 2.206 MiB