Package: imcRtools Version: 1.10.0 Command: rm -rf imcRtools.buildbin-libdir && mkdir imcRtools.buildbin-libdir && E:\biocbuild\bbs-3.19-bioc\R\bin\R.exe CMD INSTALL --build --library=imcRtools.buildbin-libdir imcRtools_1.10.0.tar.gz StartedAt: 2024-10-17 07:59:09 -0400 (Thu, 17 Oct 2024) EndedAt: 2024-10-17 08:00:33 -0400 (Thu, 17 Oct 2024) EllapsedTime: 83.7 seconds RetCode: 0 Status: OK PackageFile: imcRtools_1.10.0.zip PackageFileSize: 2.032 MiB