Package: imcRtools Version: 1.10.0 Command: chmod a+r imcRtools -R && F:\biocbuild\bbs-3.19-bioc\R\bin\R.exe CMD build --keep-empty-dirs --no-resave-data imcRtools StartedAt: 2024-06-26 19:33:38 -0400 (Wed, 26 Jun 2024) EndedAt: 2024-06-26 19:37:51 -0400 (Wed, 26 Jun 2024) EllapsedTime: 253.5 seconds RetCode: 0 Status: OK PackageFile: imcRtools_1.10.0.tar.gz PackageFileSize: 2.206 MiB