Package: imcRtools Version: 1.10.0 Command: rm -rf imcRtools.buildbin-libdir && mkdir imcRtools.buildbin-libdir && F:\biocbuild\bbs-3.19-bioc\R\bin\R.exe CMD INSTALL --build --library=imcRtools.buildbin-libdir imcRtools_1.10.0.tar.gz StartedAt: 2024-06-27 08:22:36 -0400 (Thu, 27 Jun 2024) EndedAt: 2024-06-27 08:23:49 -0400 (Thu, 27 Jun 2024) EllapsedTime: 72.6 seconds RetCode: 0 Status: OK PackageFile: imcRtools_1.10.0.zip PackageFileSize: 2.031 MiB