Package: imcRtools Version: 1.10.0 Command: /Library/Frameworks/R.framework/Resources/bin/R CMD check --install=check:imcRtools.install-out.txt --library=/Library/Frameworks/R.framework/Resources/library --no-vignettes --timings imcRtools_1.10.0.tar.gz StartedAt: 2024-06-10 19:06:22 -0400 (Mon, 10 Jun 2024) EndedAt: 2024-06-10 19:44:45 -0400 (Mon, 10 Jun 2024) EllapsedTime: 2303.1 seconds RetCode: 1 Status: ERROR CheckDir: imcRtools.Rcheck Warnings: NA