Package: imcRtools Version: 1.10.0 Command: /Library/Frameworks/R.framework/Resources/bin/R CMD build --keep-empty-dirs --no-resave-data imcRtools StartedAt: 2024-06-09 23:08:56 -0400 (Sun, 09 Jun 2024) EndedAt: 2024-06-09 23:15:07 -0400 (Sun, 09 Jun 2024) EllapsedTime: 371.4 seconds RetCode: 0 Status: OK PackageFile: imcRtools_1.10.0.tar.gz PackageFileSize: 6.776 MiB