Package: imcRtools Version: 1.10.0 Command: rm -rf imcRtools.buildbin-libdir && mkdir imcRtools.buildbin-libdir && /Users/biocbuild/BBS/utils/build-universal.sh imcRtools_1.10.0.tar.gz /Library/Frameworks/R.framework/Resources/bin/R imcRtools.buildbin-libdir StartedAt: 2024-06-11 11:40:03 -0400 (Tue, 11 Jun 2024) EndedAt: 2024-06-11 11:42:00 -0400 (Tue, 11 Jun 2024) EllapsedTime: 117.2 seconds RetCode: 0 Status: OK PackageFile: imcRtools_1.10.0.tgz PackageFileSize: 6.59 MiB