Package: imcRtools Version: 1.10.0 Command: /Library/Frameworks/R.framework/Resources/bin/R CMD check --install=check:imcRtools.install-out.txt --library=/Library/Frameworks/R.framework/Resources/library --no-vignettes --timings imcRtools_1.10.0.tar.gz StartedAt: 2024-10-18 01:03:07 -0400 (Fri, 18 Oct 2024) EndedAt: 2024-10-18 01:26:01 -0400 (Fri, 18 Oct 2024) EllapsedTime: 1374.1 seconds RetCode: 1 Status: ERROR CheckDir: imcRtools.Rcheck Warnings: NA