Package: imcRtools Version: 1.10.0 Command: /Library/Frameworks/R.framework/Resources/bin/R CMD build --keep-empty-dirs --no-resave-data imcRtools StartedAt: 2024-10-17 02:43:01 -0400 (Thu, 17 Oct 2024) EndedAt: 2024-10-17 02:46:38 -0400 (Thu, 17 Oct 2024) EllapsedTime: 216.9 seconds RetCode: 0 Status: OK PackageFile: imcRtools_1.10.0.tar.gz PackageFileSize: 6.775 MiB