Package: imcRtools Version: 1.10.0 Command: rm -rf imcRtools.buildbin-libdir && mkdir imcRtools.buildbin-libdir && /Users/biocbuild/BBS/utils/build-universal.sh imcRtools_1.10.0.tar.gz /Library/Frameworks/R.framework/Resources/bin/R imcRtools.buildbin-libdir StartedAt: 2024-10-18 18:59:34 -0400 (Fri, 18 Oct 2024) EndedAt: 2024-10-18 19:00:56 -0400 (Fri, 18 Oct 2024) EllapsedTime: 81.9 seconds RetCode: 0 Status: OK PackageFile: imcRtools_1.10.0.tgz PackageFileSize: 6.59 MiB