Package: illuminaio Version: 0.46.0 Command: E:\biocbuild\bbs-3.19-bioc\R\bin\R.exe CMD INSTALL illuminaio StartedAt: 2024-10-16 16:07:13 -0400 (Wed, 16 Oct 2024) EndedAt: 2024-10-16 16:07:24 -0400 (Wed, 16 Oct 2024) EllapsedTime: 11.1 seconds RetCode: 0 Status: OK