Package: illuminaio Version: 0.46.0 Command: chmod a+r illuminaio -R && F:\biocbuild\bbs-3.19-bioc\R\bin\R.exe CMD build --keep-empty-dirs --no-resave-data illuminaio StartedAt: 2024-06-26 19:33:09 -0400 (Wed, 26 Jun 2024) EndedAt: 2024-06-26 19:33:56 -0400 (Wed, 26 Jun 2024) EllapsedTime: 47.1 seconds RetCode: 0 Status: OK PackageFile: illuminaio_0.46.0.tar.gz PackageFileSize: 300.2 KiB