Package: illuminaio Version: 0.46.0 Command: rm -rf illuminaio.buildbin-libdir && mkdir illuminaio.buildbin-libdir && F:\biocbuild\bbs-3.19-bioc\R\bin\R.exe CMD INSTALL --build --library=illuminaio.buildbin-libdir illuminaio_0.46.0.tar.gz StartedAt: 2024-06-27 08:22:30 -0400 (Thu, 27 Jun 2024) EndedAt: 2024-06-27 08:22:54 -0400 (Thu, 27 Jun 2024) EllapsedTime: 23.3 seconds RetCode: 0 Status: OK PackageFile: illuminaio_0.46.0.zip PackageFileSize: 326 KiB