Package: illuminaio Version: 0.46.0 Command: /Library/Frameworks/R.framework/Resources/bin/R CMD build --keep-empty-dirs --no-resave-data illuminaio StartedAt: 2024-10-16 20:08:01 -0400 (Wed, 16 Oct 2024) EndedAt: 2024-10-16 20:08:42 -0400 (Wed, 16 Oct 2024) EllapsedTime: 41.0 seconds RetCode: 0 Status: OK PackageFile: illuminaio_0.46.0.tar.gz PackageFileSize: 429.8 KiB