Package: illuminaio Version: 0.46.0 Command: /Library/Frameworks/R.framework/Resources/bin/R CMD INSTALL illuminaio StartedAt: 2024-06-09 15:12:44 -0400 (Sun, 09 Jun 2024) EndedAt: 2024-06-09 15:12:50 -0400 (Sun, 09 Jun 2024) EllapsedTime: 5.7 seconds RetCode: 0 Status: OK