Package: illuminaio Version: 0.46.0 Command: /Library/Frameworks/R.framework/Resources/bin/R CMD check --install=check:illuminaio.install-out.txt --library=/Library/Frameworks/R.framework/Resources/library --no-vignettes --timings illuminaio_0.46.0.tar.gz StartedAt: 2024-06-10 19:05:10 -0400 (Mon, 10 Jun 2024) EndedAt: 2024-06-10 19:06:22 -0400 (Mon, 10 Jun 2024) EllapsedTime: 71.7 seconds RetCode: 0 Status: OK CheckDir: illuminaio.Rcheck Warnings: 0