Package: illuminaio Version: 0.46.0 Command: /Library/Frameworks/R.framework/Resources/bin/R CMD check --install=check:illuminaio.install-out.txt --library=/Library/Frameworks/R.framework/Resources/library --no-vignettes --timings illuminaio_0.46.0.tar.gz StartedAt: 2024-10-18 01:02:24 -0400 (Fri, 18 Oct 2024) EndedAt: 2024-10-18 01:03:07 -0400 (Fri, 18 Oct 2024) EllapsedTime: 43.0 seconds RetCode: 0 Status: OK CheckDir: illuminaio.Rcheck Warnings: 0