Package: illuminaio Version: 0.46.0 Command: /Library/Frameworks/R.framework/Resources/bin/R CMD build --keep-empty-dirs --no-resave-data illuminaio StartedAt: 2024-10-17 02:40:07 -0400 (Thu, 17 Oct 2024) EndedAt: 2024-10-17 02:40:34 -0400 (Thu, 17 Oct 2024) EllapsedTime: 26.2 seconds RetCode: 0 Status: OK PackageFile: illuminaio_0.46.0.tar.gz PackageFileSize: 429.6 KiB