Package: igvShiny Version: 1.0.5 Command: E:\biocbuild\bbs-3.19-bioc\R\bin\R.exe CMD INSTALL igvShiny StartedAt: 2024-10-16 16:41:12 -0400 (Wed, 16 Oct 2024) EndedAt: 2024-10-16 16:41:51 -0400 (Wed, 16 Oct 2024) EllapsedTime: 39.1 seconds RetCode: 0 Status: OK