Package: igvShiny Version: 1.0.5 Command: E:\biocbuild\bbs-3.19-bioc\R\bin\R.exe CMD check --no-multiarch --install=check:igvShiny.install-out.txt --library=E:\biocbuild\bbs-3.19-bioc\R\library --no-vignettes --timings igvShiny_1.0.5.tar.gz StartedAt: 2024-10-17 02:28:34 -0400 (Thu, 17 Oct 2024) EndedAt: 2024-10-17 02:30:44 -0400 (Thu, 17 Oct 2024) EllapsedTime: 130.7 seconds RetCode: 0 Status: OK CheckDir: igvShiny.Rcheck Warnings: 0