Package: igvShiny Version: 1.0.5 Command: chmod a+r igvShiny -R && E:\biocbuild\bbs-3.19-bioc\R\bin\R.exe CMD build --keep-empty-dirs --no-resave-data igvShiny StartedAt: 2024-10-16 19:46:52 -0400 (Wed, 16 Oct 2024) EndedAt: 2024-10-16 19:47:38 -0400 (Wed, 16 Oct 2024) EllapsedTime: 45.6 seconds RetCode: 0 Status: OK PackageFile: igvShiny_1.0.5.tar.gz PackageFileSize: 4.22 MiB