Package: igvShiny Version: 1.0.0 Command: chmod a+r igvShiny -R && F:\biocbuild\bbs-3.19-bioc\R\bin\R.exe CMD build --keep-empty-dirs --no-resave-data igvShiny StartedAt: 2024-06-26 19:32:43 -0400 (Wed, 26 Jun 2024) EndedAt: 2024-06-26 19:33:09 -0400 (Wed, 26 Jun 2024) EllapsedTime: 26.4 seconds RetCode: 1 Status: ERROR PackageFile: None PackageFileSize: NA