Package: igvShiny Version: 0.99.5 Command: rm -rf igvShiny.buildbin-libdir && mkdir igvShiny.buildbin-libdir && F:\biocbuild\bbs-3.19-bioc\R\bin\R.exe CMD INSTALL --build --library=igvShiny.buildbin-libdir igvShiny_0.99.5.tar.gz StartedAt: 2024-04-16 08:42:06 -0400 (Tue, 16 Apr 2024) EndedAt: 2024-04-16 08:42:27 -0400 (Tue, 16 Apr 2024) EllapsedTime: 20.9 seconds RetCode: 0 Status: OK PackageFile: igvShiny_0.99.5.zip PackageFileSize: 4.297 MiB