Package: igvShiny Version: 1.0.5 Command: /Library/Frameworks/R.framework/Resources/bin/R CMD check --install=check:igvShiny.install-out.txt --library=/Library/Frameworks/R.framework/Resources/library --no-vignettes --timings igvShiny_1.0.5.tar.gz StartedAt: 2024-10-17 06:55:02 -0400 (Thu, 17 Oct 2024) EndedAt: 2024-10-17 06:58:59 -0400 (Thu, 17 Oct 2024) EllapsedTime: 236.9 seconds RetCode: 0 Status: OK CheckDir: igvShiny.Rcheck Warnings: 0